Workbook

Sheet Section38Agencies
A1: Agency Name | B1: CRO Number | C1: CHY Number | D1: Charities Regulator Number
A2: =HYPERLINK(Sheet2!E2,Sheet2!A2) -> Beaumont Hospital | C2: 7385
A3: =HYPERLINK(Sheet2!E3,Sheet2!A3) -> BROTHERS OF CHARITY SERVICES CLARE | B3: 416987 | C3: 15458 | D3: 20053390
A4: =HYPERLINK(Sheet2!E4,Sheet2!A4) -> BROTHERS OF CHARITY SERVICES GALWAY | B4: 416984 | C4: 6922 | D4: 20013943
A5: =HYPERLINK(Sheet2!E5,Sheet2!A5) -> BROTHERS OF CHARITY SERVICES LIMERICK | B5: 416991 | C5: 6920 | D5: 20013936
A6: =HYPERLINK(Sheet2!E6,Sheet2!A6) -> BROTHERS OF CHARITY SERVICES ROSCOMMON | B6: 416973 | C6: 13462 | D6: 20041991
A7: =HYPERLINK(Sheet2!E7,Sheet2!A7) -> BROTHERS OF CHARITY SERVICES SOUTH EAST | B7: 416982 | C7: 3541 | D7: 20004446
A8: =HYPERLINK(Sheet2!E8,Sheet2!A8) -> BROTHERS OF CHARITY SOUTHERN SERVICES | B8: 416990 | C8: 3846 | D8: 20005023
A9: =HYPERLINK(Sheet2!E9,Sheet2!A9) -> CARRIGLEA CAIRDE SERVICES | B9: 403466 | C9: 16004 | D9: 20056650
A10: =HYPERLINK(Sheet2!E10,Sheet2!A10) -> CENTRAL REMEDIAL CLINIC | B10: 14880 | C10: 4998 | D10: 20006938
A11: =HYPERLINK(Sheet2!E11,Sheet2!A11) -> CHEEVERSTOWN HOUSE LIMITED | B11: 50235
A12: =HYPERLINK(Sheet2!E12,Sheet2!A12) -> Coombe Lying-In Hospital. | C12: 225
A13: =HYPERLINK(Sheet2!E13,Sheet2!A13) -> COPE FOUNDATION | B13: 17844 | C13: 5288 | D13: 20007584
A14: =HYPERLINK(Sheet2!E14,Sheet2!A14) -> DAUGHTERS OF CHARITY DISABILITY SUPPORT SERVICES LIMITED | B14: 527694 | C14: 21097 | D14: 20084035
A15: =HYPERLINK(Sheet2!E15,Sheet2!A15) -> Dublin Dental University Hospital | C15: 3113 | D15: 20003890
A16: =HYPERLINK(Sheet2!E16,Sheet2!A16) -> INCORPORATED ORTHOPAEDIC HOSPITAL OF IRELAND | B16: 2346 | C16: 1370 | D16: 20002077
A17: =HYPERLINK(Sheet2!E17,Sheet2!A17) -> KARE, PROMOTING INCLUSION FOR PEOPLE WITH INTELLECTUAL DISABILITIES | B17: 48017 | C17: 5907 | D17: 20009700
A18: =HYPERLINK(Sheet2!E18,Sheet2!A18) -> Leopardstown Park Hospital | C18: 6285 | D18: 20011062
A19: =HYPERLINK(Sheet2!E19,Sheet2!A19) -> Leopardstown Park Hospital Foundation | C19: 16425 | D19: 20059132
A20: =HYPERLINK(Sheet2!E20,Sheet2!A20) -> MATER MISERICORDIAE AND THE CHILDREN'S UNIVERSITY HOSPITALS LIMITED | B20: 351403 | C20: 14527 | D20: 20047634
A21: =HYPERLINK(Sheet2!E21,Sheet2!A21) -> MATER MISERICORDIAE UNIVERSITY HOSPITAL | B21: 351402 | C21: 203 | D21: 20000349
A22: =HYPERLINK(Sheet2!E22,Sheet2!A22) -> MERCY UNIVERSITY HOSPITAL CORK | B22: 353064 | C22: 13963 | D22: 20044862
A23: =HYPERLINK(Sheet2!E23,Sheet2!A23) -> MUIRIOSA FOUNDATION | B23: 353975 | C23: 14324 | D23: 20046453
A24: =HYPERLINK(Sheet2!E24,Sheet2!A24) -> National Maternity Hospital. | C24: 1387
A25: =HYPERLINK(Sheet2!E25,Sheet2!A25) -> National Rehabilitation Hospital | C25: 3329 | D25: 20004149
A26: =HYPERLINK(Sheet2!E26,Sheet2!A26) -> OUR LADY'S CHILDREN'S HOSPITAL, CRUMLIN | B26: 16035 | C26: 16735 | D26: 20061005
A27: =HYPERLINK(Sheet2!E27,Sheet2!A27) -> OUR LADY'S HOSPICE LIMITED | B27: 352404 | C27: 1144 | D27: 20001827
A28: =HYPERLINK(Sheet2!E28,Sheet2!A28) -> PEAMOUNT HEALTHCARE | B28: 3954 | C28: 3126 | D28: 20003913
A29: =HYPERLINK(Sheet2!E29,Sheet2!A29) -> Royal Victoria Eye and Ear Hospital | C29: 1604 | D29: 20002374
A30: =HYPERLINK(Sheet2!E30,Sheet2!A30) -> SAINT JOHN OF GOD COMMUNITY SERVICES LIMITED | B30: 430744 | C30: 18284 | D30: 20069865
A31: =HYPERLINK(Sheet2!E31,Sheet2!A31) -> Saint Michael's Hospital-Dun Laoghaire. | C31: 211
A32: =HYPERLINK(Sheet2!E32,Sheet2!A32) -> SAINT PATRICK'S CENTRE (KILKENNY) LIMITED | B32: 329663 | C32: 13697
A33: =HYPERLINK(Sheet2!E33,Sheet2!A33) -> SOUTH INFIRMARY - VICTORIA HOSPITAL LIMITED | B33: 129505 | C33: 10543 | D33: 20027025
A34: =HYPERLINK(Sheet2!E34,Sheet2!A34) -> St John's Hospital | C34: 212
A35: =HYPERLINK(Sheet2!E35,Sheet2!A35) -> ST MICHAEL'S HOUSE | B35: 27628 | C35: 5692
A36: =HYPERLINK(Sheet2!E36,Sheet2!A36) -> St. James's Hospital | C36: 7696
A37: =HYPERLINK(Sheet2!E37,Sheet2!A37) -> ST. VINCENT'S HEALTHCARE GROUP LIMITED | B37: 338585 | C37: 14187 | D37: 20045555
A38: =HYPERLINK(Sheet2!E38,Sheet2!A38) -> STEWARTS CARE LIMITED | B38: 296282 | C38: 13177 | D38: 20040314
A39: =HYPERLINK(Sheet2!E39,Sheet2!A39) -> SUNBEAM HOUSE SERVICES LIMITED | B39: 76504 | C39: 6559 | D39: 20012328
A40: =HYPERLINK(Sheet2!E40,Sheet2!A40) -> The Adelaide & Meath Hospital Incorporating The National Children's Hospital | C40: 12587 | D40: 20037161
...

Sheet Sheet2
A1: Agency Name | B1: CRO Number | C1: CHY Number | D1: CR Number | E1: URL
A2: Beaumont Hospital | C2: 7385 | E2: https://benefacts.ie/org/53cbe106-5e63-4d2b-9a16-d8d6769481f8
A3: BROTHERS OF CHARITY SERVICES CLARE | B3: 416987 | C3: 15458 | D3: 20053390 | E3: https://benefacts.ie/org/0566dadc-cd9f-46df-a9fa-f9d585e0859b
A4: BROTHERS OF CHARITY SERVICES GALWAY | B4: 416984 | C4: 6922 | D4: 20013943 | E4: https://benefacts.ie/org/e7018f19-99e7-4ca1-bc22-7f9bf16868dd
A5: BROTHERS OF CHARITY SERVICES LIMERICK | B5: 416991 | C5: 6920 | D5: 20013936 | E5: https://benefacts.ie/org/b6b5a890-5ca2-4fc5-a1be-a8cad3bb39b4
A6: BROTHERS OF CHARITY SERVICES ROSCOMMON | B6: 416973 | C6: 13462 | D6: 20041991 | E6: https://benefacts.ie/org/b5b79411-997f-4977-8c59-0f9e010e116a
A7: BROTHERS OF CHARITY SERVICES SOUTH EAST | B7: 416982 | C7: 3541 | D7: 20004446 | E7: https://benefacts.ie/org/31ce3c57-6b86-4191-a3a0-e59d8e7b5c49
A8: BROTHERS OF CHARITY SOUTHERN SERVICES | B8: 416990 | C8: 3846 | D8: 20005023 | E8: https://benefacts.ie/org/70e4e968-1708-4600-9475-10bf3845af17
A9: CARRIGLEA CAIRDE SERVICES | B9: 403466 | C9: 16004 | D9: 20056650 | E9: https://benefacts.ie/org/d6e9ba59-f830-4be4-8436-f165e39ff2d9
A10: CENTRAL REMEDIAL CLINIC | B10: 14880 | C10: 4998 | D10: 20006938 | E10: https://benefacts.ie/org/7b912c80-7ac7-499c-ba11-78d403e5a349
A11: CHEEVERSTOWN HOUSE LIMITED | B11: 50235 | E11: https://benefacts.ie/org/5e3a7fb3-7b51-4d5d-a616-547ae532cf2b
A12: Coombe Lying-In Hospital. | C12: 225 | E12: https://benefacts.ie/org/48d2a82b-0461-4967-b1bf-c0bc7aaee3e6
A13: COPE FOUNDATION | B13: 17844 | C13: 5288 | D13: 20007584 | E13: https://benefacts.ie/org/2eef8727-3b7e-4a46-b1e8-a40517c00e4e
A14: DAUGHTERS OF CHARITY DISABILITY SUPPORT SERVICES LIMITED | B14: 527694 | C14: 21097 | D14: 20084035 | E14: https://benefacts.ie/org/612eb888-f3e0-4f8e-a3b8-4ea017db0aeb
A15: Dublin Dental University Hospital | C15: 3113 | D15: 20003890 | E15: https://benefacts.ie/org/32039173-4fa8-4c08-99d1-61df9e97d38f
A16: INCORPORATED ORTHOPAEDIC HOSPITAL OF IRELAND | B16: 2346 | C16: 1370 | D16: 20002077 | E16: https://benefacts.ie/org/7dee3767-3833-4f07-86bb-9b93e1515fd5
A17: KARE, PROMOTING INCLUSION FOR PEOPLE WITH INTELLECTUAL DISABILITIES | B17: 48017 | C17: 5907 | D17: 20009700 | E17: https://benefacts.ie/org/fcd6056c-6c63-4002-b4f5-a90db4bcfeb3
A18: Leopardstown Park Hospital | C18: 6285 | D18: 20011062 | E18: https://benefacts.ie/org/e41079bb-93dc-4d5e-aa8a-78f64525425e
A19: Leopardstown Park Hospital Foundation | C19: 16425 | D19: 20059132 | E19: https://benefacts.ie/org/f53ad039-46bc-49d3-9082-ff5db2918581
A20: MATER MISERICORDIAE AND THE CHILDREN'S UNIVERSITY HOSPITALS LIMITED | B20: 351403 | C20: 14527 | D20: 20047634 | E20: https://benefacts.ie/org/4e6a2655-0df9-4cab-8406-be1e6157588e
A21: MATER MISERICORDIAE UNIVERSITY HOSPITAL | B21: 351402 | C21: 203 | D21: 20000349 | E21: https://benefacts.ie/org/9c7fa20d-d514-468f-8ecc-dfd64d3ea15c
A22: MERCY UNIVERSITY HOSPITAL CORK | B22: 353064 | C22: 13963 | D22: 20044862 | E22: https://benefacts.ie/org/38102925-d12f-4903-abe3-c27ab605fae1
A23: MUIRIOSA FOUNDATION | B23: 353975 | C23: 14324 | D23: 20046453 | E23: https://benefacts.ie/org/3f5f5e88-fdfa-491c-880d-f8d75d769b48
A24: National Maternity Hospital. | C24: 1387 | E24: https://benefacts.ie/org/6f0c7392-33ea-455c-90d2-f08333b7be31
A25: National Rehabilitation Hospital | C25: 3329 | D25: 20004149 | E25: https://benefacts.ie/org/3fc8c937-0116-48d8-8abd-b09a2d60ceee
A26: OUR LADY'S CHILDREN'S HOSPITAL, CRUMLIN | B26: 16035 | C26: 16735 | D26: 20061005 | E26: https://benefacts.ie/org/f5f99d6d-dd23-44a3-aa13-213634a58cb4
A27: OUR LADY'S HOSPICE LIMITED | B27: 352404 | C27: 1144 | D27: 20001827 | E27: https://benefacts.ie/org/6af34ed6-7a43-4cfd-8563-87b4f745bf2e
A28: PEAMOUNT HEALTHCARE | B28: 3954 | C28: 3126 | D28: 20003913 | E28: https://benefacts.ie/org/cbe3e41e-9522-4f72-b9f0-bbfec71a7153
A29: Royal Victoria Eye and Ear Hospital | C29: 1604 | D29: 20002374 | E29: https://benefacts.ie/org/2180e5c2-1cfd-4e53-bbb2-9ce277003a1f
A30: SAINT JOHN OF GOD COMMUNITY SERVICES LIMITED | B30: 430744 | C30: 18284 | D30: 20069865 | E30: https://benefacts.ie/org/12cad92c-7121-42f6-aaff-eb79c65b5a15
A31: Saint Michael's Hospital-Dun Laoghaire. | C31: 211 | E31: https://benefacts.ie/org/c69a0f10-7758-49e9-90f4-e1092143a300
A32: SAINT PATRICK'S CENTRE (KILKENNY) LIMITED | B32: 329663 | C32: 13697 | E32: https://benefacts.ie/org/36875e50-c4f5-4400-a5fa-bebb5f68c3a5
A33: SOUTH INFIRMARY - VICTORIA HOSPITAL LIMITED | B33: 129505 | C33: 10543 | D33: 20027025 | E33: https://benefacts.ie/org/4fda2f24-0947-45e1-a8ee-2b13a81b57e7
A34: St John's Hospital | C34: 212 | E34: https://benefacts.ie/org/19c24ed0-dbbd-40eb-bf70-fd9fad41b99b
A35: ST MICHAEL'S HOUSE | B35: 27628 | C35: 5692 | E35: https://benefacts.ie/org/25cb31d7-b257-4aa2-bc35-2cff750b65ec
A36: St. James's Hospital | C36: 7696 | E36: https://benefacts.ie/org/e3e16697-126b-45a9-9e90-e24a685edc4a
A37: ST. VINCENT'S HEALTHCARE GROUP LIMITED | B37: 338585 | C37: 14187 | D37: 20045555 | E37: https://benefacts.ie/org/387094b8-f163-4cd4-a5bc-8021ddf7bead
A38: STEWARTS CARE LIMITED | B38: 296282 | C38: 13177 | D38: 20040314 | E38: https://benefacts.ie/org/aabe110c-52e8-44ec-b1b8-2a327889c776
A39: SUNBEAM HOUSE SERVICES LIMITED | B39: 76504 | C39: 6559 | D39: 20012328 | E39: https://benefacts.ie/org/1f11a3ad-222e-469d-91b9-809d442fea98
A40: The Adelaide & Meath Hospital Incorporating The National Children's Hospital | C40: 12587 | D40: 20037161 | E40: https://benefacts.ie/org/be088448-e056-4d31-b07f-10fd5edb7b8d
...
